BEGIN:VCALENDAR
VERSION:2.0
METHOD:PUBLISH
CALSCALE:GREGORIAN
PRODID:-//Helios Calendar//EN
X-FROM-URL:https://www.nccc.edu/calendar/index.php?eID=834
X-WR-RELCALID:SUNY NCCC Calendar Transfer Event - Sage College 20211025T093000
X-WR-TIMEZONE:America/Mexico_City
X-WR-CALNAME:SUNY NCCC Calendar
BEGIN:VEVENT
URL;VALUE=URI:https://www.nccc.edu/calendar/index.php?eID=834
DTSTART:20211025T093000
DTEND:20211025T113000
SUMMARY:Transfer Event - Sage College
DESCRIPTION:Learn more about how you can transfer to Sage College after completing your degree at North Country. Representatives of Sage College will be on hand in the Connector on the Saranac Lake campus\, Monday\,... For complete event details please visit:  https://www.nccc.edu/calendar/?eID=834\n______________________________\nEvent Downloaded Powered by OU Calendar
LOCATION:The Connector - 23 Santanoni Ave. \, Saranac Lake\, NY  12983
CATEGORIES:SUNY NCCC Calendar Events
PRIORITY:0
TRANSP:TRANSPARENT
END:VEVENT
END:VCALENDAR