BEGIN:VCALENDAR
VERSION:2.0
METHOD:PUBLISH
CALSCALE:GREGORIAN
PRODID:-//Helios Calendar//EN
X-FROM-URL:https://www.nccc.edu/calendar/index.php?eID=656
X-WR-RELCALID:SUNY NCCC Calendar Virtual Paint Party: Mardi Gras Mask 20210210T210000
X-WR-TIMEZONE:America/Mexico_City
X-WR-CALNAME:SUNY NCCC Calendar
BEGIN:VEVENT
URL;VALUE=URI:https://www.nccc.edu/calendar/index.php?eID=656
DTSTART:20210210T210000
DTEND:20210210T210000
SUMMARY:Virtual Paint Party: Mardi Gras Mask
DESCRIPTION:Join us throughout the month for our painting series. All supplies\, directions and tracers will be mailed directly to you. In addition\, you can follow along during the scheduled Zoom meeting that... For complete event details please visit:  https://www.nccc.edu/calendar/?eID=656\n______________________________\nEvent Downloaded Powered by OU Calendar
LOCATION:Virtually/Online -  \, \, NY  
CATEGORIES:SUNY NCCC Calendar Events
PRIORITY:0
TRANSP:TRANSPARENT
END:VEVENT
END:VCALENDAR