BEGIN:VCALENDAR
VERSION:2.0
METHOD:PUBLISH
CALSCALE:GREGORIAN
PRODID:-//Helios Calendar//EN
X-FROM-URL:https://www.nccc.edu/calendar/index.php?eID=650
X-WR-RELCALID:SUNY NCCC Calendar Zuzu African Acrobats: Live Virtual Performance  20210210T190000
X-WR-TIMEZONE:America/Mexico_City
X-WR-CALNAME:SUNY NCCC Calendar
BEGIN:VEVENT
URL;VALUE=URI:https://www.nccc.edu/calendar/index.php?eID=650
DTSTART:20210210T190000
DTEND:20210210T201500
SUMMARY:Zuzu African Acrobats: Live Virtual Performance 
DESCRIPTION:The Zuzu Acrobats come from Mombasa\, Kenya\, in East Africa. The group has performed together since the members were eight years old. At that time\, they learned from village elders the art of making... For complete event details please visit:  https://www.nccc.edu/calendar/?eID=650\n______________________________\nEvent Downloaded Powered by OU Calendar
LOCATION:Virtually/Online -  \, \, NY  
CATEGORIES:SUNY NCCC Calendar Events
PRIORITY:0
TRANSP:TRANSPARENT
END:VEVENT
END:VCALENDAR