BEGIN:VCALENDAR
VERSION:2.0
METHOD:PUBLISH
CALSCALE:GREGORIAN
PRODID:-//Helios Calendar//EN
X-FROM-URL:https://www.nccc.edu/calendar/index.php?eID=569
X-WR-RELCALID:SUNY NCCC Calendar The Story of Timbuctoo: Black Voting Rights in the Adirondacks 20200806T190000
X-WR-TIMEZONE:America/Mexico_City
X-WR-CALNAME:SUNY NCCC Calendar
BEGIN:VEVENT
URL;VALUE=URI:https://www.nccc.edu/calendar/index.php?eID=569
DTSTART:20200806T190000
DTEND:20200806T190000
SUMMARY:The Story of Timbuctoo: Black Voting Rights in the Adirondacks
DESCRIPTION:North Country Live: Summer Series presents\, “The story of Timbuctoo: Black voting rights in the Adirondacks\,” with Pete Nelson\, a co-founder of the Adirondack Diversity Initiative and an adjunct... For complete event details please visit:  https://www.nccc.edu/calendar/?eID=569\n______________________________\nEvent Downloaded Powered by OU Calendar
LOCATION:Virtually/Online -  \, \, NY  
CATEGORIES:SUNY NCCC Calendar Events
PRIORITY:0
TRANSP:TRANSPARENT
END:VEVENT
END:VCALENDAR