BEGIN:VCALENDAR
VERSION:2.0
METHOD:PUBLISH
CALSCALE:GREGORIAN
PRODID:-//Helios Calendar//EN
X-FROM-URL:https://www.nccc.edu/calendar/index.php?eID=566
X-WR-RELCALID:SUNY NCCC Calendar Telecommuting in our New Virtual World 20200723T190000
X-WR-TIMEZONE:America/Mexico_City
X-WR-CALNAME:SUNY NCCC Calendar
BEGIN:VEVENT
URL;VALUE=URI:https://www.nccc.edu/calendar/index.php?eID=566
DTSTART:20200723T190000
DTEND:20200723T190000
SUMMARY:Telecommuting in our New Virtual World
DESCRIPTION:North Country Live: Summer Series presents “Telecommuting in our New Virtual World\,” with Kyle Johnston\, Vice President of Marketing and Enrollment at North Country Community College. Kyle will... For complete event details please visit:  https://www.nccc.edu/calendar/?eID=566\n______________________________\nEvent Downloaded Powered by OU Calendar
LOCATION:Virtually/Online -  \, \, NY  
CATEGORIES:SUNY NCCC Calendar Events
PRIORITY:0
TRANSP:TRANSPARENT
END:VEVENT
END:VCALENDAR