BEGIN:VCALENDAR
VERSION:2.0
METHOD:PUBLISH
CALSCALE:GREGORIAN
PRODID:-//Helios Calendar//EN
X-FROM-URL:https://www.nccc.edu/calendar/index.php?eID=564
X-WR-RELCALID:SUNY NCCC Calendar Budgeting and Saving 20200709T190000
X-WR-TIMEZONE:America/Mexico_City
X-WR-CALNAME:SUNY NCCC Calendar
BEGIN:VEVENT
URL;VALUE=URI:https://www.nccc.edu/calendar/index.php?eID=564
DTSTART:20200709T190000
DTEND:20200709T190000
SUMMARY:Budgeting and Saving
DESCRIPTION:North Country Live: Summer Series presents “Budgeting and Saving\,” with Jerry Manor\, Business Development Manager for SeaComm. In this webinar\, Jerry will discuss tools that make handling your... For complete event details please visit:  https://www.nccc.edu/calendar/?eID=564\n______________________________\nEvent Downloaded Powered by OU Calendar
LOCATION:Virtually/Online -  \, \, NY  
CATEGORIES:SUNY NCCC Calendar Events
PRIORITY:0
TRANSP:TRANSPARENT
END:VEVENT
END:VCALENDAR