BEGIN:VCALENDAR
VERSION:2.0
METHOD:PUBLISH
CALSCALE:GREGORIAN
PRODID:-//Helios Calendar//EN
X-FROM-URL:https://www.nccc.edu/calendar/index.php?eID=563
X-WR-RELCALID:SUNY NCCC Calendar North Country Live! Criminal Justice  20200605T130000
X-WR-TIMEZONE:America/Mexico_City
X-WR-CALNAME:SUNY NCCC Calendar
BEGIN:VEVENT
URL;VALUE=URI:https://www.nccc.edu/calendar/index.php?eID=563
DTSTART:20200605T130000
DTEND:20200605T130000
SUMMARY:North Country Live! Criminal Justice 
DESCRIPTION:Join a North Country Admissions Counselor for a virtual admissions presentation that includes an overview of academic program offerings\, campus life\, how to apply\, admissions requirements\, financial... For complete event details please visit:  https://www.nccc.edu/calendar/?eID=563\n______________________________\nEvent Downloaded Powered by OU Calendar
LOCATION:Virtually/Online -  \, \, NY  
CATEGORIES:SUNY NCCC Calendar Events
PRIORITY:0
TRANSP:TRANSPARENT
END:VEVENT
END:VCALENDAR