BEGIN:VCALENDAR
VERSION:2.0
METHOD:PUBLISH
CALSCALE:GREGORIAN
PRODID:-//Helios Calendar//EN
X-FROM-URL:https://www.nccc.edu/calendar/index.php?eID=558
X-WR-RELCALID:SUNY NCCC Calendar Mindfulness and Mental Health 20200618T190000
X-WR-TIMEZONE:America/Mexico_City
X-WR-CALNAME:SUNY NCCC Calendar
BEGIN:VEVENT
URL;VALUE=URI:https://www.nccc.edu/calendar/index.php?eID=558
DTSTART:20200618T190000
DTEND:20200618T190000
SUMMARY:Mindfulness and Mental Health
DESCRIPTION:North Country Live: Summer Series presents “Mindfulness and Mental Health” with Angela Brice of North Country Community College. Thursday\, June 18 at 7 p.m. via Zoom.Part of being healthy is recognizing... For complete event details please visit:  https://www.nccc.edu/calendar/?eID=558\n______________________________\nEvent Downloaded Powered by OU Calendar
LOCATION:Virtually/Online -  \, \, NY  
CATEGORIES:SUNY NCCC Calendar Events
PRIORITY:0
TRANSP:TRANSPARENT
END:VEVENT
END:VCALENDAR