BEGIN:VCALENDAR
VERSION:2.0
METHOD:PUBLISH
CALSCALE:GREGORIAN
PRODID:-//Helios Calendar//EN
X-FROM-URL:https://www.nccc.edu/calendar/index.php?eID=520
X-WR-RELCALID:SUNY NCCC Calendar Chair Massages 20200226T110000
X-WR-TIMEZONE:America/Mexico_City
X-WR-CALNAME:SUNY NCCC Calendar
BEGIN:VEVENT
URL;VALUE=URI:https://www.nccc.edu/calendar/index.php?eID=520
DTSTART:20200226T110000
DTEND:20200226T130000
SUMMARY:Chair Massages
DESCRIPTION:Come and relax with a chair massage in the Fitness Studio.  We are offering 10 minute sessions that are free!  For complete event details please visit:  https://www.nccc.edu/calendar/?eID=520\n______________________________\nEvent Downloaded Powered by OU Calendar
LOCATION:Ticonderoga campus - 11 Hawkeye Trail  \, Ticonderoga\, NY United States 12883
CATEGORIES:SUNY NCCC Calendar Events
PRIORITY:0
TRANSP:TRANSPARENT
END:VEVENT
END:VCALENDAR