BEGIN:VCALENDAR
VERSION:2.0
METHOD:PUBLISH
CALSCALE:GREGORIAN
PRODID:-//Helios Calendar//EN
X-FROM-URL:https://www.nccc.edu/calendar/index.php?eID=519
X-WR-RELCALID:SUNY NCCC Calendar AARP Tax Assistance 20200214T103000
X-WR-TIMEZONE:America/Mexico_City
X-WR-CALNAME:SUNY NCCC Calendar
BEGIN:VEVENT
URL;VALUE=URI:https://www.nccc.edu/calendar/index.php?eID=519
DTSTART:20200214T103000
DTEND:20200214T163000
SUMMARY:AARP Tax Assistance
DESCRIPTION:Need some guidence or assistance with your taxes? AARP will be on campus to assist community members\, students\, faculty and staff. For complete event details please visit:  https://www.nccc.edu/calendar/?eID=519\n______________________________\nEvent Downloaded Powered by OU Calendar
LOCATION:Ticonderoga campus - 11 Hawkeye Trail  \, Ticonderoga\, NY United States 12883
CATEGORIES:SUNY NCCC Calendar Events
PRIORITY:0
TRANSP:TRANSPARENT
END:VEVENT
END:VCALENDAR