BEGIN:VCALENDAR
VERSION:2.0
METHOD:PUBLISH
CALSCALE:GREGORIAN
PRODID:-//Helios Calendar//EN
X-FROM-URL:https://www.nccc.edu/calendar/index.php?eID=498
X-WR-RELCALID:SUNY NCCC Calendar Chair Massages 20191202T113000
X-WR-TIMEZONE:America/Mexico_City
X-WR-CALNAME:SUNY NCCC Calendar
BEGIN:VEVENT
URL;VALUE=URI:https://www.nccc.edu/calendar/index.php?eID=498
DTSTART:20191202T113000
DTEND:20191202T133000
SUMMARY:Chair Massages
DESCRIPTION:Come and relax with a free chair massage in Mills Mezzanine For complete event details please visit:  https://www.nccc.edu/calendar/?eID=498\n______________________________\nEvent Downloaded Powered by OU Calendar
LOCATION:Malone campus - 75 William Street \, Malone\, NY United States 12953
CATEGORIES:SUNY NCCC Calendar Events
PRIORITY:0
TRANSP:TRANSPARENT
END:VEVENT
END:VCALENDAR