BEGIN:VCALENDAR
VERSION:2.0
METHOD:PUBLISH
CALSCALE:GREGORIAN
PRODID:-//Helios Calendar//EN
X-FROM-URL:https://www.nccc.edu/calendar/index.php?eID=490
X-WR-RELCALID:SUNY NCCC Calendar Last Day of Classes  20191212
X-WR-TIMEZONE:America/Mexico_City
X-WR-CALNAME:SUNY NCCC Calendar
BEGIN:VEVENT
URL;VALUE=URI:https://www.nccc.edu/calendar/index.php?eID=490
DTSTART;VALUE=DATE:20191212
DTEND;VALUE=DATE:20191213
SUMMARY:Last Day of Classes 
DESCRIPTION:Dec. 12 is the last day of classes for the Fall Semester For complete event details please visit:  https://www.nccc.edu/calendar/?eID=490\n______________________________\nEvent Downloaded Powered by OU Calendar
LOCATION:NCCC - 23 Santanoni Ave. \, Saranac Lake\, NY United States 12983
CATEGORIES:SUNY NCCC Calendar Events
PRIORITY:0
TRANSP:TRANSPARENT
END:VEVENT
END:VCALENDAR