BEGIN:VCALENDAR
VERSION:2.0
METHOD:PUBLISH
CALSCALE:GREGORIAN
PRODID:-//Helios Calendar//EN
X-FROM-URL:https://www.nccc.edu/calendar/index.php?eID=475
X-WR-RELCALID:SUNY NCCC Calendar Saranac Lake Chair Massages 20191023T120000
X-WR-TIMEZONE:America/Mexico_City
X-WR-CALNAME:SUNY NCCC Calendar
BEGIN:VEVENT
URL;VALUE=URI:https://www.nccc.edu/calendar/index.php?eID=475
DTSTART:20191023T120000
DTEND:20191023T140000
SUMMARY:Saranac Lake Chair Massages
DESCRIPTION:Come and relax in the connector louge and get a FREE Chair Massage! For complete event details please visit:  https://www.nccc.edu/calendar/?eID=475\n______________________________\nEvent Downloaded Powered by OU Calendar
LOCATION:The Connector - 23 Santanoni Ave. \, Saranac Lake\, NY  12983
CATEGORIES:SUNY NCCC Calendar Events
PRIORITY:0
TRANSP:TRANSPARENT
END:VEVENT
END:VCALENDAR