BEGIN:VCALENDAR
VERSION:2.0
METHOD:PUBLISH
CALSCALE:GREGORIAN
PRODID:-//Helios Calendar//EN
X-FROM-URL:https://www.nccc.edu/calendar/index.php?eID=450
X-WR-RELCALID:SUNY NCCC Calendar Finding the Truth in a Fake News World 20191022T190000
X-WR-TIMEZONE:America/Mexico_City
X-WR-CALNAME:SUNY NCCC Calendar
BEGIN:VEVENT
URL;VALUE=URI:https://www.nccc.edu/calendar/index.php?eID=450
DTSTART:20191022T190000
DTEND:20191022T190000
SUMMARY:Finding the Truth in a Fake News World
DESCRIPTION:The public is invited to attend a special media literacy workshop at North Country Community College on Tuesday\, Oct. 22 at 7 p.m.Presenter Mary Miller\, Education Services Director for the New York... For complete event details please visit:  https://www.nccc.edu/calendar/?eID=450\n______________________________\nEvent Downloaded Powered by OU Calendar
LOCATION:Saranac Lake campus - 23 Santanoni Ave. \, Saranac Lake\, NY United States 12983
CATEGORIES:SUNY NCCC Calendar Events
PRIORITY:0
TRANSP:TRANSPARENT
END:VEVENT
END:VCALENDAR