BEGIN:VCALENDAR
VERSION:2.0
METHOD:PUBLISH
CALSCALE:GREGORIAN
PRODID:-//Helios Calendar//EN
X-FROM-URL:https://www.nccc.edu/calendar/index.php?eID=449
X-WR-RELCALID:SUNY NCCC Calendar Adirondack Place Names: Why is That Thing Called That? 20191019T190000
X-WR-TIMEZONE:America/Mexico_City
X-WR-CALNAME:SUNY NCCC Calendar
BEGIN:VEVENT
URL;VALUE=URI:https://www.nccc.edu/calendar/index.php?eID=449
DTSTART:20191019T190000
DTEND:20191019T203000
SUMMARY:Adirondack Place Names: Why is That Thing Called That?
DESCRIPTION:Adventurer Erik Schlimmer will present "Adirondack Place Names: Why is That Thing Called That?" this Saturday Oct. 19 at 7 p.m. in the David Petty Lecture Hall (S-19) on the Saranac Lake Campus of... For complete event details please visit:  https://www.nccc.edu/calendar/?eID=449\n______________________________\nEvent Downloaded Powered by OU Calendar
LOCATION:Saranac Lake campus - 23 Santanoni Ave. \, Saranac Lake\, NY United States 12983
CATEGORIES:SUNY NCCC Calendar Events
PRIORITY:0
TRANSP:TRANSPARENT
END:VEVENT
END:VCALENDAR