BEGIN:VCALENDAR
VERSION:2.0
METHOD:PUBLISH
CALSCALE:GREGORIAN
PRODID:-//Helios Calendar//EN
X-FROM-URL:https://www.nccc.edu/calendar/index.php?eID=445
X-WR-RELCALID:SUNY NCCC Calendar SUNY's Got Your Back - Ticonderoga Campus 20191017T113000
X-WR-TIMEZONE:America/Mexico_City
X-WR-CALNAME:SUNY NCCC Calendar
BEGIN:VEVENT
URL;VALUE=URI:https://www.nccc.edu/calendar/index.php?eID=445
DTSTART:20191017T113000
DTEND:20191017T130000
SUMMARY:SUNY's Got Your Back - Ticonderoga Campus
DESCRIPTION:SUNY’s Got Your Back provides the opportunity for students\, faculty\, staff\, and community members from across the state to create comfort kits for victims and survivors of violence\, and to learn... For complete event details please visit:  https://www.nccc.edu/calendar/?eID=445\n______________________________\nEvent Downloaded Powered by OU Calendar
LOCATION:Ticonderoga campus - 11 Hawkeye Trail  \, Ticonderoga\, NY United States 12883
CATEGORIES:SUNY NCCC Calendar Events
PRIORITY:0
TRANSP:TRANSPARENT
END:VEVENT
END:VCALENDAR