BEGIN:VCALENDAR
VERSION:2.0
METHOD:PUBLISH
CALSCALE:GREGORIAN
PRODID:-//Helios Calendar//EN
X-FROM-URL:https://www.nccc.edu/calendar/index.php?eID=405
X-WR-RELCALID:SUNY NCCC Calendar Constitution Day 2019 20190917
X-WR-TIMEZONE:America/Mexico_City
X-WR-CALNAME:SUNY NCCC Calendar
BEGIN:VEVENT
URL;VALUE=URI:https://www.nccc.edu/calendar/index.php?eID=405
DTSTART;VALUE=DATE:20190917
DTEND;VALUE=DATE:20190918
SUMMARY:Constitution Day 2019
DESCRIPTION:On September 17\, 1787\, the delegates to the Constitutional Convention met for the last time to sign the document they had created. We encourage all Americans to observe this important day in our nation's... For complete event details please visit:  https://www.nccc.edu/calendar/?eID=405\n______________________________\nEvent Downloaded Powered by OU Calendar
LOCATION:all campuses - all campuses \, \,   
CATEGORIES:SUNY NCCC Calendar Events
PRIORITY:0
TRANSP:TRANSPARENT
END:VEVENT
END:VCALENDAR