BEGIN:VCALENDAR
VERSION:2.0
METHOD:PUBLISH
CALSCALE:GREGORIAN
PRODID:-//Helios Calendar//EN
X-FROM-URL:https://www.nccc.edu/calendar/index.php?eID=396
X-WR-RELCALID:SUNY NCCC Calendar Individualized Business Administration program launch party 20190718T180000
X-WR-TIMEZONE:America/Mexico_City
X-WR-CALNAME:SUNY NCCC Calendar
BEGIN:VEVENT
URL;VALUE=URI:https://www.nccc.edu/calendar/index.php?eID=396
DTSTART:20190718T180000
DTEND:20190718T180000
SUMMARY:Individualized Business Administration program launch party
DESCRIPTION:NCCC and the Ticonderoga Area Chamber of Commerce will host a launch party for the Individualized Business Administration program on July 18 at the college’s Ticonderoga campus\, located at 11 Hawkeye... For complete event details please visit:  https://www.nccc.edu/calendar/?eID=396\n______________________________\nEvent Downloaded Powered by OU Calendar
LOCATION:Ticonderoga campus - 11 Hawkeye Trail  \, Ticonderoga\, NY United States 12883
CATEGORIES:SUNY NCCC Calendar Events
PRIORITY:0
TRANSP:TRANSPARENT
END:VEVENT
END:VCALENDAR