BEGIN:VCALENDAR
VERSION:2.0
METHOD:PUBLISH
CALSCALE:GREGORIAN
PRODID:-//Helios Calendar//EN
X-FROM-URL:https://www.nccc.edu/calendar/index.php?eID=392
X-WR-RELCALID:SUNY NCCC Calendar Ti Lecture Series: The Murder of Abraham Lincoln 20190725T190000
X-WR-TIMEZONE:America/Mexico_City
X-WR-CALNAME:SUNY NCCC Calendar
BEGIN:VEVENT
URL;VALUE=URI:https://www.nccc.edu/calendar/index.php?eID=392
DTSTART:20190725T190000
DTEND:20190725T190000
SUMMARY:Ti Lecture Series: The Murder of Abraham Lincoln
DESCRIPTION:North Country Community College faculty member Tom McGrath will present "Terror at Ford's Theater: The Murder of Abraham Lincoln." The presentation is part of the free Summer Lecture series at the... For complete event details please visit:  https://www.nccc.edu/calendar/?eID=392\n______________________________\nEvent Downloaded Powered by OU Calendar
LOCATION:Ticonderoga campus - 11 Hawkeye Trail  \, Ticonderoga\, NY United States 12883
CATEGORIES:SUNY NCCC Calendar Events
PRIORITY:0
TRANSP:TRANSPARENT
END:VEVENT
END:VCALENDAR