BEGIN:VCALENDAR
VERSION:2.0
METHOD:PUBLISH
CALSCALE:GREGORIAN
PRODID:-//Helios Calendar//EN
X-FROM-URL:https://www.nccc.edu/calendar/index.php?eID=391
X-WR-RELCALID:SUNY NCCC Calendar Ti Lecture Series: The Adks and the Erie Canal 20190718T190000
X-WR-TIMEZONE:America/Mexico_City
X-WR-CALNAME:SUNY NCCC Calendar
BEGIN:VEVENT
URL;VALUE=URI:https://www.nccc.edu/calendar/index.php?eID=391
DTSTART:20190718T190000
DTEND:20190718T190000
SUMMARY:Ti Lecture Series: The Adks and the Erie Canal
DESCRIPTION:North Country Community College faculty member Peter Nelson will present "How the Adirondacks Made the Erie Canal Possible." The presentation is part of the free Summer Lecture series at the college's... For complete event details please visit:  https://www.nccc.edu/calendar/?eID=391\n______________________________\nEvent Downloaded Powered by OU Calendar
LOCATION:Ticonderoga campus - 11 Hawkeye Trail  \, Ticonderoga\, NY United States 12883
CATEGORIES:SUNY NCCC Calendar Events
PRIORITY:0
TRANSP:TRANSPARENT
END:VEVENT
END:VCALENDAR