BEGIN:VCALENDAR
VERSION:2.0
METHOD:PUBLISH
CALSCALE:GREGORIAN
PRODID:-//Helios Calendar//EN
X-FROM-URL:https://www.nccc.edu/calendar/index.php?eID=2000
X-WR-RELCALID:SUNY NCCC Calendar Winter Break 20260101
X-WR-TIMEZONE:America/Mexico_City
X-WR-CALNAME:SUNY NCCC Calendar
BEGIN:VEVENT
URL;VALUE=URI:https://www.nccc.edu/calendar/index.php?eID=2000
DTSTART;VALUE=DATE:20260101
DTEND;VALUE=DATE:20260102
SUMMARY:Winter Break
DESCRIPTION:The college will be closed for Winter Break from Dec. 24 to Jan. 2. Happy Holidays! For complete event details please visit:  https://www.nccc.edu/calendar/?eID=2000\n______________________________\nEvent Downloaded Powered by OU Calendar
LOCATION:All NCCC Campuses - New York \, All Campuses \, NY  000000
CATEGORIES:SUNY NCCC Calendar Events
PRIORITY:0
TRANSP:TRANSPARENT
END:VEVENT
END:VCALENDAR