BEGIN:VCALENDAR
VERSION:2.0
METHOD:PUBLISH
CALSCALE:GREGORIAN
PRODID:-//Helios Calendar//EN
X-FROM-URL:https://www.nccc.edu/calendar/index.php?eID=1988
X-WR-RELCALID:SUNY NCCC Calendar Malone LAC Holiday Party 20251209T090000
X-WR-TIMEZONE:America/Mexico_City
X-WR-CALNAME:SUNY NCCC Calendar
BEGIN:VEVENT
URL;VALUE=URI:https://www.nccc.edu/calendar/index.php?eID=1988
DTSTART:20251209T090000
DTEND:20251209T160000
SUMMARY:Malone LAC Holiday Party
DESCRIPTION:The Learning Assistance Center at the college's Malone campus will host a holiday party on Tuesday\, Dec. 9 from 9 am to 4 pm. Stop by for food\, punch and a surprise game with prizes. For complete event details please visit:  https://www.nccc.edu/calendar/?eID=1988\n______________________________\nEvent Downloaded Powered by OU Calendar
LOCATION:Malone campus - 75 William Street \, Malone\, NY United States 12953
CATEGORIES:SUNY NCCC Calendar Events
PRIORITY:0
TRANSP:TRANSPARENT
END:VEVENT
END:VCALENDAR