BEGIN:VCALENDAR
VERSION:2.0
METHOD:PUBLISH
CALSCALE:GREGORIAN
PRODID:-//Helios Calendar//EN
X-FROM-URL:https://www.nccc.edu/calendar/index.php?eID=1945
X-WR-RELCALID:SUNY NCCC Calendar 2nd Summer Session 20250707T080000
X-WR-TIMEZONE:America/Mexico_City
X-WR-CALNAME:SUNY NCCC Calendar
BEGIN:VEVENT
URL;VALUE=URI:https://www.nccc.edu/calendar/index.php?eID=1945
DTSTART:20250707T080000
DTEND:20250707T080000
SUMMARY:2nd Summer Session
DESCRIPTION:2nd Summer Session (6wks) begins on July 7.  For complete event details please visit:  https://www.nccc.edu/calendar/?eID=1945\n______________________________\nEvent Downloaded Powered by OU Calendar
LOCATION:All NCCC Campuses - New York \, All Campuses \, NY  000000
CATEGORIES:SUNY NCCC Calendar Events
PRIORITY:0
TRANSP:TRANSPARENT
END:VEVENT
END:VCALENDAR