BEGIN:VCALENDAR
VERSION:2.0
METHOD:PUBLISH
CALSCALE:GREGORIAN
PRODID:-//Helios Calendar//EN
X-FROM-URL:https://www.nccc.edu/calendar/index.php?eID=1372
X-WR-RELCALID:SUNY NCCC Calendar NCCC Welless Fair - Saranac Lake 20250430T110000
X-WR-TIMEZONE:America/Mexico_City
X-WR-CALNAME:SUNY NCCC Calendar
BEGIN:VEVENT
URL;VALUE=URI:https://www.nccc.edu/calendar/index.php?eID=1372
DTSTART:20250430T110000
DTEND:20250430T150000
SUMMARY:NCCC Welless Fair - Saranac Lake
DESCRIPTION:The Office of Student Life is excited to announce our upcoming On-Campus Wellness Fair\, taking place on Wednesday\, April 30\, 2025\, at the Connector from 11 am to 3 pm. This event will feature a... For complete event details please visit:  https://www.nccc.edu/calendar/?eID=1372\n______________________________\nEvent Downloaded Powered by OU Calendar
LOCATION:The Connector - 23 Santanoni Ave. \, Saranac Lake\, NY  12983
CATEGORIES:SUNY NCCC Calendar Events
PRIORITY:0
TRANSP:TRANSPARENT
END:VEVENT
END:VCALENDAR