BEGIN:VCALENDAR
VERSION:2.0
METHOD:PUBLISH
CALSCALE:GREGORIAN
PRODID:-//Helios Calendar//EN
X-FROM-URL:https://www.nccc.edu/calendar/index.php?eID=1368
X-WR-RELCALID:SUNY NCCC Calendar Campus Spa - Ticonderoga 20250505T100000
X-WR-TIMEZONE:America/Mexico_City
X-WR-CALNAME:SUNY NCCC Calendar
BEGIN:VEVENT
URL;VALUE=URI:https://www.nccc.edu/calendar/index.php?eID=1368
DTSTART:20250505T100000
DTEND:20250505T140000
SUMMARY:Campus Spa - Ticonderoga
DESCRIPTION:Feeling a bit stressed with finals just around the corner? Let us bring the spa experience to you! Join us for a refeshing and rejuvinating experience with aroma therapy\, massage\, and relaxation.... For complete event details please visit:  https://www.nccc.edu/calendar/?eID=1368\n______________________________\nEvent Downloaded Powered by OU Calendar
LOCATION:Ticonderoga campus - 11 Hawkeye Trail  \, Ticonderoga\, NY United States 12883
CATEGORIES:SUNY NCCC Calendar Events
PRIORITY:0
TRANSP:TRANSPARENT
END:VEVENT
END:VCALENDAR