BEGIN:VCALENDAR
VERSION:2.0
METHOD:PUBLISH
CALSCALE:GREGORIAN
PRODID:-//Helios Calendar//EN
X-FROM-URL:https://www.nccc.edu/calendar/index.php?eID=1363
X-WR-RELCALID:SUNY NCCC Calendar Singer: Matthew Schuler 20250421T123000
X-WR-TIMEZONE:America/Mexico_City
X-WR-CALNAME:SUNY NCCC Calendar
BEGIN:VEVENT
URL;VALUE=URI:https://www.nccc.edu/calendar/index.php?eID=1363
DTSTART:20250421T123000
DTEND:20250421T130000
SUMMARY:Singer: Matthew Schuler
DESCRIPTION:Alternative Pop artist Matthew Schuler has grown to find a voice that has touched millions. In Fall 2013 he auditioned for NBC’s 3-time Emmy winning singing competition show\, The Voice\, making it... For complete event details please visit:  https://www.nccc.edu/calendar/?eID=1363\n______________________________\nEvent Downloaded Powered by OU Calendar
LOCATION:Ticonderoga campus - 11 Hawkeye Trail  \, Ticonderoga\, NY United States 12883
CATEGORIES:SUNY NCCC Calendar Events
PRIORITY:0
TRANSP:TRANSPARENT
END:VEVENT
END:VCALENDAR