BEGIN:VCALENDAR
VERSION:2.0
METHOD:PUBLISH
CALSCALE:GREGORIAN
PRODID:-//Helios Calendar//EN
X-FROM-URL:https://www.nccc.edu/calendar/index.php?eID=1360
X-WR-RELCALID:SUNY NCCC Calendar Ticonderoga Area Spring Job & Career Fair April 9th 20250409T160000
X-WR-TIMEZONE:America/Mexico_City
X-WR-CALNAME:SUNY NCCC Calendar
BEGIN:VEVENT
URL;VALUE=URI:https://www.nccc.edu/calendar/index.php?eID=1360
DTSTART:20250409T160000
DTEND:20250409T190000
SUMMARY:Ticonderoga Area Spring Job & Career Fair April 9th
DESCRIPTION:The Ticonderoga Area Chamber of Commerce (TACC) in coordination with North Country Community College will host the Annual Ticonderoga Area Spring Job & Career Fair on Wednesday\, April 9th\, 2025... For complete event details please visit:  https://www.nccc.edu/calendar/?eID=1360\n______________________________\nEvent Downloaded Powered by OU Calendar
LOCATION:Ticonderoga campus - 11 Hawkeye Trail  \, Ticonderoga\, NY United States 12883
CATEGORIES:SUNY NCCC Calendar Events
PRIORITY:0
TRANSP:TRANSPARENT
END:VEVENT
END:VCALENDAR