BEGIN:VCALENDAR
VERSION:2.0
METHOD:PUBLISH
CALSCALE:GREGORIAN
PRODID:-//Helios Calendar//EN
X-FROM-URL:https://www.nccc.edu/calendar/index.php?eID=1359
X-WR-RELCALID:SUNY NCCC Calendar Neurodiversity Workshop on Saranac Lake campus 20250331T150000
X-WR-TIMEZONE:America/Mexico_City
X-WR-CALNAME:SUNY NCCC Calendar
BEGIN:VEVENT
URL;VALUE=URI:https://www.nccc.edu/calendar/index.php?eID=1359
DTSTART:20250331T150000
DTEND:20250331T170000
SUMMARY:Neurodiversity Workshop on Saranac Lake campus
DESCRIPTION:Dr. Maria Rheaume\, PsyD\, will present “Strength-Based Approaches to Autism\, ADHD\, Developmental Disabilities\, and Other Differences” at the college’s Saranac Lake campus.This free workshop... For complete event details please visit:  https://www.nccc.edu/calendar/?eID=1359\n______________________________\nEvent Downloaded Powered by OU Calendar
LOCATION:Saranac Lake campus - 23 Santanoni Ave. \, Saranac Lake\, NY United States 12983
CATEGORIES:SUNY NCCC Calendar Events
PRIORITY:0
TRANSP:TRANSPARENT
END:VEVENT
END:VCALENDAR