BEGIN:VCALENDAR
VERSION:2.0
METHOD:PUBLISH
CALSCALE:GREGORIAN
PRODID:-//Helios Calendar//EN
X-FROM-URL:https://www.nccc.edu/calendar/index.php?eID=1355
X-WR-RELCALID:SUNY NCCC Calendar Malone Campus Scavenger Hunt 20250218T083000
X-WR-TIMEZONE:America/Mexico_City
X-WR-CALNAME:SUNY NCCC Calendar
BEGIN:VEVENT
URL;VALUE=URI:https://www.nccc.edu/calendar/index.php?eID=1355
DTSTART:20250218T083000
DTEND:20250218T083000
SUMMARY:Malone Campus Scavenger Hunt
DESCRIPTION:Get to know the Malone campus Learning Assistance Center and Library through a fun scavenger hunt!Complete the hunt and you could win gift cards to the NCCC Bookstore. To enter\, stop by the LAC/Library... For complete event details please visit:  https://www.nccc.edu/calendar/?eID=1355\n______________________________\nEvent Downloaded Powered by OU Calendar
LOCATION:Malone campus - 75 William Street \, Malone\, NY United States 12953
CATEGORIES:SUNY NCCC Calendar Events
PRIORITY:0
TRANSP:TRANSPARENT
END:VEVENT
END:VCALENDAR