BEGIN:VCALENDAR
VERSION:2.0
METHOD:PUBLISH
CALSCALE:GREGORIAN
PRODID:-//Helios Calendar//EN
X-FROM-URL:https://www.nccc.edu/calendar/index.php?eID=1351
X-WR-RELCALID:SUNY NCCC Calendar Ice Palace Accessibility Day sponsored by NCCC 20250204T100000
X-WR-TIMEZONE:America/Mexico_City
X-WR-CALNAME:SUNY NCCC Calendar
BEGIN:VEVENT
URL;VALUE=URI:https://www.nccc.edu/calendar/index.php?eID=1351
DTSTART:20250204T100000
DTEND:20250204T160000
SUMMARY:Ice Palace Accessibility Day sponsored by NCCC
DESCRIPTION:The college is excited to sponsor the 2025 Saranac Lake Winter Carnival Ice Palace Accessibility Day.Taking place from 10 am to 4 pm on Tuesday\, Feb. 4\, this day will provide opportunities for anyone... For complete event details please visit:  https://www.nccc.edu/calendar/?eID=1351\n______________________________\nEvent Downloaded Powered by OU Calendar
LOCATION:Ice Palace - 106-112 River St \, Saranac Lake\, NY United States 12983
CATEGORIES:SUNY NCCC Calendar Events
PRIORITY:0
TRANSP:TRANSPARENT
END:VEVENT
END:VCALENDAR