BEGIN:VCALENDAR
VERSION:2.0
METHOD:PUBLISH
CALSCALE:GREGORIAN
PRODID:-//Helios Calendar//EN
X-FROM-URL:https://www.nccc.edu/calendar/index.php?eID=1127
X-WR-RELCALID:SUNY NCCC Calendar Comedian: Keysha E.  20230322T114500
X-WR-TIMEZONE:America/Mexico_City
X-WR-CALNAME:SUNY NCCC Calendar
BEGIN:VEVENT
URL;VALUE=URI:https://www.nccc.edu/calendar/index.php?eID=1127
DTSTART:20230322T114500
DTEND:20230322T123000
SUMMARY:Comedian: Keysha E. 
DESCRIPTION:"LaKeysha Edwards \, also known as "Keysha E."  is an actress/comedian know for her truthful humor and stage presence. A native of Detroit\, Michigan\, Keysha has been making waves through the... For complete event details please visit:  https://www.nccc.edu/calendar/?eID=1127\n______________________________\nEvent Downloaded Powered by OU Calendar
LOCATION:The Connector - 23 Santanoni Ave. \, Saranac Lake\, NY  12983
CATEGORIES:SUNY NCCC Calendar Events
PRIORITY:0
TRANSP:TRANSPARENT
END:VEVENT
END:VCALENDAR