BEGIN:VCALENDAR
VERSION:2.0
METHOD:PUBLISH
CALSCALE:GREGORIAN
PRODID:-//Helios Calendar//EN
X-FROM-URL:https://www.nccc.edu/calendar/index.php?eID=1003
X-WR-RELCALID:SUNY NCCC Calendar Women's Soccer vs. SUNY Broome 20221010T130000
X-WR-TIMEZONE:America/Mexico_City
X-WR-CALNAME:SUNY NCCC Calendar
BEGIN:VEVENT
URL;VALUE=URI:https://www.nccc.edu/calendar/index.php?eID=1003
DTSTART:20221010T130000
DTEND:20221010T130000
SUMMARY:Women's Soccer vs. SUNY Broome
DESCRIPTION:Women's Soccer 1:00 PMvs. SUNY Broome Community College For complete event details please visit:  https://www.nccc.edu/calendar/?eID=1003\n______________________________\nEvent Downloaded Powered by OU Calendar
LOCATION:Soccer Field - Payeville Lane \, Saranac Lake\, NY United States 12983
CATEGORIES:SUNY NCCC Calendar Events
PRIORITY:0
TRANSP:TRANSPARENT
END:VEVENT
END:VCALENDAR